BEGIN:VCALENDAR
VERSION:2.0
PRODID:-// - ECPv6.15.20//NONSGML v1.0//EN
CALSCALE:GREGORIAN
METHOD:PUBLISH
X-ORIGINAL-URL:https://taskforcehydro1.org
X-WR-CALDESC:Events for 
REFRESH-INTERVAL;VALUE=DURATION:PT1H
X-Robots-Tag:noindex
X-PUBLISHED-TTL:PT1H
BEGIN:VTIMEZONE
TZID:UTC
BEGIN:STANDARD
TZOFFSETFROM:+0000
TZOFFSETTO:+0000
TZNAME:UTC
DTSTART:20240101T000000
END:STANDARD
END:VTIMEZONE
BEGIN:VEVENT
DTSTART;TZID=UTC:20250419T080000
DTEND;TZID=UTC:20250419T120000
DTSTAMP:20260423T132439
CREATED:20250325T185102Z
LAST-MODIFIED:20250325T185102Z
UID:992-1745049600-1745064000@taskforcehydro1.org
SUMMARY:Stokin' Saturday
DESCRIPTION:Our Stokin’ Saturdays are a family-friendly beach meetup every 3rd Saturday of the month. Meet us between 8am and 12pm at Hannah Park to come surf\, paddle\, and play\, no matter what your skill level. Grab your board or borrow one of ours – Come share the stoke with Service Members\, Veterans\, 1st Responders and their families! \nStokin' SaturdayPlease enable JavaScript in your browser to complete this form.Please enable JavaScript in your browser to complete this form.Name *FirstLastEmail *Are you over the age of 18? *YesNoHave you signed a waiver in this calendar year? *YesNoWhat is your current skill level? *Never Surfed BeforeBeginnerIntermediateProSurf: Will you need surf instruction? If so\, please arrive at 8am. YesNoAre you bringing a plus 1?*YesNo		\n			current  skill\n			\n		\n		*If Yes: Guest Name\, Waiver\, Over 18\, Skill LevelDo you or your guest have any physical/health restrictions?Please write none if not applicableAnything else we should know?Submit
URL:https://taskforcehydro1.org/event/stokin-saturday/
LOCATION:Dolphin Plaza\, Hannah Park Lot 1 Beach & Boardwalk\, Atlantic Beach\, FL\, 32233\, United States
CATEGORIES:Surfing
END:VEVENT
END:VCALENDAR